BEGIN:VCALENDAR
VERSION:2.0
PRODID:-//MŠ Bajkalská - ECPv5.16.4//NONSGML v1.0//EN
CALSCALE:GREGORIAN
METHOD:PUBLISH
X-WR-CALNAME:MŠ Bajkalská
X-ORIGINAL-URL:https://www.msbajkalska.cz
X-WR-CALDESC:Akce na MŠ Bajkalská
BEGIN:VTIMEZONE
TZID:Europe/Prague
BEGIN:DAYLIGHT
TZOFFSETFROM:+0100
TZOFFSETTO:+0200
TZNAME:CEST
DTSTART:20260329T010000
END:DAYLIGHT
BEGIN:STANDARD
TZOFFSETFROM:+0200
TZOFFSETTO:+0100
TZNAME:CET
DTSTART:20261025T010000
END:STANDARD
END:VTIMEZONE
BEGIN:VEVENT
DTSTART;TZID=Europe/Prague:20260611T093000
DTEND;TZID=Europe/Prague:20260611T093000
DTSTAMP:20260425T163058
CREATED:20250912T153357Z
LAST-MODIFIED:20250912T153357Z
UID:2243-1781170200-1781170200@www.msbajkalska.cz
SUMMARY:Be ready to Save  "První pomoc"
DESCRIPTION:preventivní program pro děti
URL:https://www.msbajkalska.cz/kalendar/be-ready-to-save-prvni-pomoc/
CATEGORIES:kalendář
END:VEVENT
END:VCALENDAR