BEGIN:VCALENDAR
VERSION:2.0
PRODID:-//MŠ Bajkalská - ECPv5.16.4//NONSGML v1.0//EN
CALSCALE:GREGORIAN
METHOD:PUBLISH
X-WR-CALNAME:MŠ Bajkalská
X-ORIGINAL-URL:https://www.msbajkalska.cz
X-WR-CALDESC:Akce na MŠ Bajkalská
BEGIN:VTIMEZONE
TZID:Europe/Prague
BEGIN:DAYLIGHT
TZOFFSETFROM:+0100
TZOFFSETTO:+0200
TZNAME:CEST
DTSTART:20260329T010000
END:DAYLIGHT
BEGIN:STANDARD
TZOFFSETFROM:+0200
TZOFFSETTO:+0100
TZNAME:CET
DTSTART:20261025T010000
END:STANDARD
END:VTIMEZONE
BEGIN:VEVENT
DTSTART;TZID=Europe/Prague:20260514T153000
DTEND;TZID=Europe/Prague:20260514T153000
DTSTAMP:20260425T163105
CREATED:20250912T153226Z
LAST-MODIFIED:20250912T153226Z
UID:2241-1778772600-1778772600@www.msbajkalska.cz
SUMMARY:Odpolední setkání dětí\, rodičů\, prarodičů s dílničkou a posezení ke Dni rodiny
DESCRIPTION:datum a čas bude upřesněn  3 třídy
URL:https://www.msbajkalska.cz/kalendar/odpoledni-setkani-deti-rodicu-prarodicu-s-dilnickou-a-posezeni-ke-dni-rodiny-2/
CATEGORIES:kalendář
END:VEVENT
END:VCALENDAR