BEGIN:VCALENDAR
VERSION:2.0
PRODID:-//MŠ Bajkalská - ECPv5.16.4//NONSGML v1.0//EN
CALSCALE:GREGORIAN
METHOD:PUBLISH
X-WR-CALNAME:MŠ Bajkalská
X-ORIGINAL-URL:https://www.msbajkalska.cz
X-WR-CALDESC:Akce na MŠ Bajkalská
BEGIN:VTIMEZONE
TZID:Europe/Prague
BEGIN:DAYLIGHT
TZOFFSETFROM:+0100
TZOFFSETTO:+0200
TZNAME:CEST
DTSTART:20260329T010000
END:DAYLIGHT
BEGIN:STANDARD
TZOFFSETFROM:+0200
TZOFFSETTO:+0100
TZNAME:CET
DTSTART:20261025T010000
END:STANDARD
END:VTIMEZONE
BEGIN:VEVENT
DTSTART;TZID=Europe/Prague:20260219T091500
DTEND;TZID=Europe/Prague:20260219T091500
DTSTAMP:20260425T212154
CREATED:20250912T152133Z
LAST-MODIFIED:20250912T152133Z
UID:2221-1771492500-1771492500@www.msbajkalska.cz
SUMMARY:Storytelling do škol " Pohádky  ze všech koutů světa"
DESCRIPTION:živé vyprávění
URL:https://www.msbajkalska.cz/kalendar/storytelling-do-skol-pohadky-ze-vsech-koutu-sveta/
CATEGORIES:kalendář
END:VEVENT
END:VCALENDAR