BEGIN:VCALENDAR
VERSION:2.0
PRODID:-//MŠ Bajkalská - ECPv5.16.4//NONSGML v1.0//EN
CALSCALE:GREGORIAN
METHOD:PUBLISH
X-WR-CALNAME:MŠ Bajkalská
X-ORIGINAL-URL:https://www.msbajkalska.cz
X-WR-CALDESC:Akce na MŠ Bajkalská
BEGIN:VTIMEZONE
TZID:Europe/Prague
BEGIN:DAYLIGHT
TZOFFSETFROM:+0100
TZOFFSETTO:+0200
TZNAME:CEST
DTSTART:20250330T010000
END:DAYLIGHT
BEGIN:STANDARD
TZOFFSETFROM:+0200
TZOFFSETTO:+0100
TZNAME:CET
DTSTART:20251026T010000
END:STANDARD
END:VTIMEZONE
BEGIN:VEVENT
DTSTART;TZID=Europe/Prague:20251104T000000
DTEND;TZID=Europe/Prague:20251104T000000
DTSTAMP:20260426T040415
CREATED:20250912T150855Z
LAST-MODIFIED:20250912T150903Z
UID:2198-1762214400-1762214400@www.msbajkalska.cz
SUMMARY:Toulcův dvůr  "O beránkovi a ovečkách"
DESCRIPTION:ekologický výukový program – třída Sovičky
URL:https://www.msbajkalska.cz/kalendar/toulcuv-dvur-o-berankovi-a-oveckach/
CATEGORIES:kalendář
END:VEVENT
END:VCALENDAR